BEGIN:VCALENDAR
VERSION:2.0
PRODID:-//HCV Heidesheim - ECPv6.15.20//NONSGML v1.0//EN
CALSCALE:GREGORIAN
METHOD:PUBLISH
X-ORIGINAL-URL:https://hcv-heidesheim.de
X-WR-CALDESC:Veranstaltungen für HCV Heidesheim
REFRESH-INTERVAL;VALUE=DURATION:PT1H
X-Robots-Tag:noindex
X-PUBLISHED-TTL:PT1H
BEGIN:VTIMEZONE
TZID:Europe/Paris
BEGIN:DAYLIGHT
TZOFFSETFROM:+0100
TZOFFSETTO:+0200
TZNAME:CEST
DTSTART:20230326T010000
END:DAYLIGHT
BEGIN:STANDARD
TZOFFSETFROM:+0200
TZOFFSETTO:+0100
TZNAME:CET
DTSTART:20231029T010000
END:STANDARD
BEGIN:DAYLIGHT
TZOFFSETFROM:+0100
TZOFFSETTO:+0200
TZNAME:CEST
DTSTART:20240331T010000
END:DAYLIGHT
BEGIN:STANDARD
TZOFFSETFROM:+0200
TZOFFSETTO:+0100
TZNAME:CET
DTSTART:20241027T010000
END:STANDARD
BEGIN:DAYLIGHT
TZOFFSETFROM:+0100
TZOFFSETTO:+0200
TZNAME:CEST
DTSTART:20250330T010000
END:DAYLIGHT
BEGIN:STANDARD
TZOFFSETFROM:+0200
TZOFFSETTO:+0100
TZNAME:CET
DTSTART:20251026T010000
END:STANDARD
END:VTIMEZONE
BEGIN:VEVENT
DTSTART;TZID=Europe/Paris:20240213T140000
DTEND;TZID=Europe/Paris:20240213T171100
DTSTAMP:20260424T075915
CREATED:20240117T075412Z
LAST-MODIFIED:20240117T075412Z
UID:351-1707832800-1707844260@hcv-heidesheim.de
SUMMARY:Kinderkostümfest
DESCRIPTION:Der HCV läd Groß und Klein zum Kinderkostümfest ein. \nEuch erwartet ein buntes Programm von Mitmachständen über Showtanz und guter Verpflegung. \nEinlass: Ab 14.11 Uhr\nStart: Ab 17.11 Uhr
URL:https://hcv-heidesheim.de/event/kinderkostuemfest-2/
LOCATION:Schönborner Hof\, Mainzer Str. 17\, Heidesheim
ATTACH;FMTTYPE=image/jpeg:https://hcv-heidesheim.de/wp-content/uploads/2020/02/hcv001.jpg
END:VEVENT
END:VCALENDAR