BEGIN:VCALENDAR
VERSION:2.0
PRODID:-//HCV Heidesheim - ECPv6.15.20//NONSGML v1.0//EN
CALSCALE:GREGORIAN
METHOD:PUBLISH
X-WR-CALNAME:HCV Heidesheim
X-ORIGINAL-URL:https://hcv-heidesheim.de
X-WR-CALDESC:Veranstaltungen für HCV Heidesheim
REFRESH-INTERVAL;VALUE=DURATION:PT1H
X-Robots-Tag:noindex
X-PUBLISHED-TTL:PT1H
BEGIN:VTIMEZONE
TZID:Europe/Paris
BEGIN:DAYLIGHT
TZOFFSETFROM:+0100
TZOFFSETTO:+0200
TZNAME:CEST
DTSTART:20230326T010000
END:DAYLIGHT
BEGIN:STANDARD
TZOFFSETFROM:+0200
TZOFFSETTO:+0100
TZNAME:CET
DTSTART:20231029T010000
END:STANDARD
BEGIN:DAYLIGHT
TZOFFSETFROM:+0100
TZOFFSETTO:+0200
TZNAME:CEST
DTSTART:20240331T010000
END:DAYLIGHT
BEGIN:STANDARD
TZOFFSETFROM:+0200
TZOFFSETTO:+0100
TZNAME:CET
DTSTART:20241027T010000
END:STANDARD
BEGIN:DAYLIGHT
TZOFFSETFROM:+0100
TZOFFSETTO:+0200
TZNAME:CEST
DTSTART:20250330T010000
END:DAYLIGHT
BEGIN:STANDARD
TZOFFSETFROM:+0200
TZOFFSETTO:+0100
TZNAME:CET
DTSTART:20251026T010000
END:STANDARD
END:VTIMEZONE
BEGIN:VEVENT
DTSTART;TZID=Europe/Paris:20241116T181100
DTEND;TZID=Europe/Paris:20241116T235900
DTSTAMP:20260423T173920
CREATED:20240222T141941Z
LAST-MODIFIED:20240917T132716Z
UID:445-1731780660-1731801540@hcv-heidesheim.de
SUMMARY:45. Närrische Weinprobe
DESCRIPTION:Es ist wieder soweit – unsere 45. Närrische Weinprobe steht vor der Tür! Am 16. November laden wir Euch herzlich in den Schönborner Hof in Heidesheim ein. Die Veranstaltung beginnt um 19:11 Uhr. Einlass ist wie gewohnt ab 18.11 Uhr. \nUnter dem Motto „Rheinhessen Pur“ erwartet uns in diesem Jahr eine spannende vergleichende Weinprobe zweier Weingüter aus Rheinhessen. Es wird 6 Vergleichsrunden geben\, bei denen wir die edlen Tropfen der beiden Weingüter verkosten dürfen. \nFreut Euch außerdem auf ein närrisch buntes Rahmenprogramm. Wie immer besteht bei dieser Veranstaltung keine Kostümpflicht\, jedoch ist gute Laune wie immer erwünscht! \nBestellungen bitte an: hcv-kartenbestellung@web.de\nPreis: 25€ pro Karte \n(Weitere Details folgen in Kürze)
URL:https://hcv-heidesheim.de/event/45-naerrische-weinprobe/
LOCATION:Schönborner Hof\, Mainzer Str. 17\, Heidesheim
ATTACH;FMTTYPE=image/jpeg:https://hcv-heidesheim.de/wp-content/uploads/2024/02/IMG_1679-scaled.jpg
END:VEVENT
END:VCALENDAR