BEGIN:VCALENDAR
VERSION:2.0
PRODID:-//HCV Heidesheim - ECPv6.15.20//NONSGML v1.0//EN
CALSCALE:GREGORIAN
METHOD:PUBLISH
X-WR-CALNAME:HCV Heidesheim
X-ORIGINAL-URL:https://hcv-heidesheim.de
X-WR-CALDESC:Veranstaltungen für HCV Heidesheim
REFRESH-INTERVAL;VALUE=DURATION:PT1H
X-Robots-Tag:noindex
X-PUBLISHED-TTL:PT1H
BEGIN:VTIMEZONE
TZID:Europe/Paris
BEGIN:DAYLIGHT
TZOFFSETFROM:+0100
TZOFFSETTO:+0200
TZNAME:CEST
DTSTART:20250330T010000
END:DAYLIGHT
BEGIN:STANDARD
TZOFFSETFROM:+0200
TZOFFSETTO:+0100
TZNAME:CET
DTSTART:20251026T010000
END:STANDARD
BEGIN:DAYLIGHT
TZOFFSETFROM:+0100
TZOFFSETTO:+0200
TZNAME:CEST
DTSTART:20260329T010000
END:DAYLIGHT
BEGIN:STANDARD
TZOFFSETFROM:+0200
TZOFFSETTO:+0100
TZNAME:CET
DTSTART:20261025T010000
END:STANDARD
BEGIN:DAYLIGHT
TZOFFSETFROM:+0100
TZOFFSETTO:+0200
TZNAME:CEST
DTSTART:20270328T010000
END:DAYLIGHT
BEGIN:STANDARD
TZOFFSETFROM:+0200
TZOFFSETTO:+0100
TZNAME:CET
DTSTART:20271031T010000
END:STANDARD
END:VTIMEZONE
BEGIN:VEVENT
DTSTART;TZID=Europe/Paris:20260214T193000
DTEND;TZID=Europe/Paris:20260215T013000
DTSTAMP:20260422T144926
CREATED:20260127T093005Z
LAST-MODIFIED:20260127T093202Z
UID:1070-1771097400-1771119000@hcv-heidesheim.de
SUMMARY:3. Heidesheimer Maskentanz: Närrisch Bunt
DESCRIPTION:HeiMaT – Närrisch Bunt!\nDer Heidesheimer Carneval Verein lädt ein zum 3. Heidesheimer Maskentanz am Fastnachtssamstag. Freut euch auf eine ausgelassene Partynacht mit bunten Kostümen\, guter Stimmung und tanzbarer Musik von DJ Gassenhauer. \nAb 20:11 Uhr wird der Schönborner Hof zur närrischen Tanzfläche – egal ob kreativ verkleidet oder einfach feierlustig: Hier steht der Spaß im Mittelpunkt. Der Eintritt beträgt 10 Euro\, Karten gibt es ausschließlich an der Abendkasse. \n🎭 Einlass ab 19:30 Uhr | Eintritt ab 18 Jahren\nKommt vorbei und feiert mit uns Fastnacht närrisch bunt – wir freuen uns auf euch!
URL:https://hcv-heidesheim.de/event/3-heidesheimer-maskentanz-naerrisch-bunt/
LOCATION:Schönborner Hof\, Mainzer Str. 17\, Heidesheim
ATTACH;FMTTYPE=image/jpeg:https://hcv-heidesheim.de/wp-content/uploads/2026/01/HCV_Plakat_Heimat2026_A2_FINAL-scaled.jpg
ORGANIZER;CN="Heidesheimer Carneval Verein":MAILTO:hcv.heidesheim@web.de
END:VEVENT
END:VCALENDAR