BEGIN:VCALENDAR
VERSION:2.0
PRODID:-//HCV Heidesheim - ECPv6.15.20//NONSGML v1.0//EN
CALSCALE:GREGORIAN
METHOD:PUBLISH
X-WR-CALNAME:HCV Heidesheim
X-ORIGINAL-URL:https://hcv-heidesheim.de
X-WR-CALDESC:Veranstaltungen für HCV Heidesheim
REFRESH-INTERVAL;VALUE=DURATION:PT1H
X-Robots-Tag:noindex
X-PUBLISHED-TTL:PT1H
BEGIN:VTIMEZONE
TZID:Europe/Paris
BEGIN:DAYLIGHT
TZOFFSETFROM:+0100
TZOFFSETTO:+0200
TZNAME:CEST
DTSTART:20230326T010000
END:DAYLIGHT
BEGIN:STANDARD
TZOFFSETFROM:+0200
TZOFFSETTO:+0100
TZNAME:CET
DTSTART:20231029T010000
END:STANDARD
BEGIN:DAYLIGHT
TZOFFSETFROM:+0100
TZOFFSETTO:+0200
TZNAME:CEST
DTSTART:20240331T010000
END:DAYLIGHT
BEGIN:STANDARD
TZOFFSETFROM:+0200
TZOFFSETTO:+0100
TZNAME:CET
DTSTART:20241027T010000
END:STANDARD
BEGIN:DAYLIGHT
TZOFFSETFROM:+0100
TZOFFSETTO:+0200
TZNAME:CEST
DTSTART:20250330T010000
END:DAYLIGHT
BEGIN:STANDARD
TZOFFSETFROM:+0200
TZOFFSETTO:+0100
TZNAME:CET
DTSTART:20251026T010000
END:STANDARD
END:VTIMEZONE
BEGIN:VEVENT
DTSTART;TZID=Europe/Paris:20240614T190000
DTEND;TZID=Europe/Paris:20240614T210000
DTSTAMP:20260423T235104
CREATED:20240214T142746Z
LAST-MODIFIED:20240529T095700Z
UID:369-1718391600-1718398800@hcv-heidesheim.de
SUMMARY:Generalversammlung HCV (vereinsintern)
DESCRIPTION:Der HCV lädt seine Mitglieder ganz herzlich zu seiner Generalversammlung am Freitag\, 14.06.2024\, um 18 Uhr im Saal des Schönborner Hofes in Heidesheim ein. \n  \nFolgende Tagesordnungspunkte sind vorgesehen: \n  \nTOP 1            Begrüßung \nTOP 2            Totenehrung \nTOP 3            Abstimmung über die Tagesordnung \nTOP 4            Berichte Vorstand und Kassenprüfer \nTOP 5            Aussprache \nTOP 6            Entlastung des Vorstandes \nTOP 7            Bericht Großer Rat \nTOP 8            Neuwahlen \nTOP 9            Anträge \nTOP 10          Campagne 2024/2025 \nTOP 11          Verschiedenes \n  \nAnträge zur Generalversammlung sind bis spätestens Freitag\, 07.06.2024\, an unseren 1. Vorsitzenden Stephan Schmidt\, Im Dechand 31\, 55262 Ingelheim\, in schriftlicher Form zu richten. \n  \nWir hoffen auf rege Teilnahme und freuen uns auf ein Wiedersehen. \n  \nDer Vorstand
URL:https://hcv-heidesheim.de/event/generalversammlung-hcv-vereinsintern/
LOCATION:Schönborner Hof\, Mainzer Str. 17\, Heidesheim
ATTACH;FMTTYPE=image/jpeg:https://hcv-heidesheim.de/wp-content/uploads/2020/02/hcv001.jpg
END:VEVENT
END:VCALENDAR