BEGIN:VCALENDAR
VERSION:2.0
PRODID:-//HCV Heidesheim - ECPv6.15.20//NONSGML v1.0//EN
CALSCALE:GREGORIAN
METHOD:PUBLISH
X-WR-CALNAME:HCV Heidesheim
X-ORIGINAL-URL:https://hcv-heidesheim.de
X-WR-CALDESC:Veranstaltungen für HCV Heidesheim
REFRESH-INTERVAL;VALUE=DURATION:PT1H
X-Robots-Tag:noindex
X-PUBLISHED-TTL:PT1H
BEGIN:VTIMEZONE
TZID:Europe/Paris
BEGIN:DAYLIGHT
TZOFFSETFROM:+0100
TZOFFSETTO:+0200
TZNAME:CEST
DTSTART:20240331T010000
END:DAYLIGHT
BEGIN:STANDARD
TZOFFSETFROM:+0200
TZOFFSETTO:+0100
TZNAME:CET
DTSTART:20241027T010000
END:STANDARD
BEGIN:DAYLIGHT
TZOFFSETFROM:+0100
TZOFFSETTO:+0200
TZNAME:CEST
DTSTART:20250330T010000
END:DAYLIGHT
BEGIN:STANDARD
TZOFFSETFROM:+0200
TZOFFSETTO:+0100
TZNAME:CET
DTSTART:20251026T010000
END:STANDARD
BEGIN:DAYLIGHT
TZOFFSETFROM:+0100
TZOFFSETTO:+0200
TZNAME:CEST
DTSTART:20260329T010000
END:DAYLIGHT
BEGIN:STANDARD
TZOFFSETFROM:+0200
TZOFFSETTO:+0100
TZNAME:CET
DTSTART:20261025T010000
END:STANDARD
END:VTIMEZONE
BEGIN:VEVENT
DTSTART;TZID=Europe/Paris:20251111T171100
DTEND;TZID=Europe/Paris:20251111T180000
DTSTAMP:20260422T193852
CREATED:20251010T064736Z
LAST-MODIFIED:20251010T064809Z
UID:962-1762881060-1762884000@hcv-heidesheim.de
SUMMARY:Fahnenhissung
DESCRIPTION:Am 11. November um 17:11 Uhr hisst der HCV traditionell die Fastnachtsfahne am Heidesheimer Brunnen.\nMit diesem symbolischen Akt eröffnen wir offiziell die Jubiläumskampagne 2025/26 und läuten damit die närrische Zeit ein.\nAlle Närrinnen und Narren sind herzlich eingeladen\, gemeinsam mit uns den Start in ein ganz besonderes Jubiläumsjahr zu feiern – für Getränke zum Anstoßen ist gesorgt! 🍷🎭
URL:https://hcv-heidesheim.de/event/fahnenhissung/
LOCATION:Schönborner Hof\, Mainzer Str. 17\, Heidesheim
ATTACH;FMTTYPE=image/jpeg:https://hcv-heidesheim.de/wp-content/uploads/2024/11/HCV_Fahne_TOP.jpeg
ORGANIZER;CN="Heidesheimer Carneval Verein":MAILTO:hcv.heidesheim@web.de
END:VEVENT
BEGIN:VEVENT
DTSTART;TZID=Europe/Paris:20251115T191100
DTEND;TZID=Europe/Paris:20251116T010000
DTSTAMP:20260422T193852
CREATED:20250908T115414Z
LAST-MODIFIED:20250908T130627Z
UID:911-1763233860-1763254800@hcv-heidesheim.de
SUMMARY:46. Närrische Weinprobe
DESCRIPTION:Unter dem diesjährigen Motto „Rheinhessen trifft Hessische Bergstraße“\nvereinen wir die Weinkultur zweier Regionen im Schönborner Hof.\nFreut euch auf einen genussvollen Abend leckeren Weinen aus den Regionen\,\nabgerundet von närrischen Zwischengängen. Wir freuen uns auf einen gemütlichen Abend! \nTicketanfragen \n\n	Hinweis: Für diesen Inhalt ist JavaScript erforderlich.\n\n\n    \n\n\n        \n        \n        \n🔒 Hinweis zum Datenschutz\nMit dem Absenden der Ticketanfrage übermitteln Sie uns personenbezogene Daten (z. B. Name\, E-Mail). Diese verwenden wir ausschließlich zur Bearbeitung Ihrer Bestellung. Je nach Veranstaltungsart können für die Abwicklung und Übergabe der Karten zusätzlich weitere Angaben (z. B. Adresse) erforderlich sein. Eine Weitergabe an Dritte erfolgt nur\, wenn dies zur Abwicklung notwendig ist (z. B. an Zahlungsdienstleister). Nach Abschluss der Veranstaltung werden Ihre Daten innerhalb von 30 Tagen gelöscht\, soweit keine gesetzlichen Aufbewahrungspflichten bestehen. \nMehr Informationen findet ihr in unserer Datenschutzerklärung.
URL:https://hcv-heidesheim.de/event/46-naerrische-weinprobe/
LOCATION:Schönborner Hof\, Mainzer Str. 17\, Heidesheim
ATTACH;FMTTYPE=image/jpeg:https://hcv-heidesheim.de/wp-content/uploads/2024/11/2024-HCV-Weinprobe-33-scaled.jpg
ORGANIZER;CN="Heidesheimer Carneval Verein":MAILTO:hcv.heidesheim@web.de
END:VEVENT
END:VCALENDAR