BEGIN:VCALENDAR
VERSION:2.0
PRODID:-//HCV Heidesheim - ECPv6.15.20//NONSGML v1.0//EN
CALSCALE:GREGORIAN
METHOD:PUBLISH
X-WR-CALNAME:HCV Heidesheim
X-ORIGINAL-URL:https://hcv-heidesheim.de
X-WR-CALDESC:Veranstaltungen für HCV Heidesheim
REFRESH-INTERVAL;VALUE=DURATION:PT1H
X-Robots-Tag:noindex
X-PUBLISHED-TTL:PT1H
BEGIN:VTIMEZONE
TZID:Europe/Paris
BEGIN:DAYLIGHT
TZOFFSETFROM:+0100
TZOFFSETTO:+0200
TZNAME:CEST
DTSTART:20250330T010000
END:DAYLIGHT
BEGIN:STANDARD
TZOFFSETFROM:+0200
TZOFFSETTO:+0100
TZNAME:CET
DTSTART:20251026T010000
END:STANDARD
BEGIN:DAYLIGHT
TZOFFSETFROM:+0100
TZOFFSETTO:+0200
TZNAME:CEST
DTSTART:20260329T010000
END:DAYLIGHT
BEGIN:STANDARD
TZOFFSETFROM:+0200
TZOFFSETTO:+0100
TZNAME:CET
DTSTART:20261025T010000
END:STANDARD
BEGIN:DAYLIGHT
TZOFFSETFROM:+0100
TZOFFSETTO:+0200
TZNAME:CEST
DTSTART:20270328T010000
END:DAYLIGHT
BEGIN:STANDARD
TZOFFSETFROM:+0200
TZOFFSETTO:+0100
TZNAME:CET
DTSTART:20271031T010000
END:STANDARD
END:VTIMEZONE
BEGIN:VEVENT
DTSTART;TZID=Europe/Paris:20261111T171100
DTEND;TZID=Europe/Paris:20261111T183000
DTSTAMP:20260422T113213
CREATED:20260421T072543Z
LAST-MODIFIED:20260421T072543Z
UID:1127-1794417060-1794421800@hcv-heidesheim.de
SUMMARY:Fahnenhissung
DESCRIPTION:Am 11. November um 17:11 Uhr hisst der HCV traditionell die Fastnachtsfahne am Heidesheimer Brunnen.\nMit diesem symbolischen Akt eröffnen wir offiziell die Jubiläumskampagne 2026/27 und läuten damit die närrische Zeit ein.\nAlle Närrinnen und Narren sind herzlich eingeladen\, gemeinsam mit uns den Start in ein ganz besonderes Jubiläumsjahr zu feiern – für Getränke zum Anstoßen ist gesorgt! 🍷🎭
URL:https://hcv-heidesheim.de/event/fahnenhissung-2/
LOCATION:Schönborner Hof\, Mainzer Str. 17\, Heidesheim
ATTACH;FMTTYPE=image/jpeg:https://hcv-heidesheim.de/wp-content/uploads/2024/11/HCV_Fahne_TOP.jpeg
ORGANIZER;CN="Heidesheimer Carneval Verein":MAILTO:hcv.heidesheim@web.de
END:VEVENT
BEGIN:VEVENT
DTSTART;TZID=Europe/Paris:20261114T191100
DTEND;TZID=Europe/Paris:20261114T235900
DTSTAMP:20260422T113213
CREATED:20260421T061015Z
LAST-MODIFIED:20260421T061550Z
UID:1121-1794683460-1794700740@hcv-heidesheim.de
SUMMARY:47. Närrische Weinprobe
DESCRIPTION:Heidesheimer Carneval Verein lädt bereits heute zur nächsten 47. Närrische Weinprobe ein.\nAm 14. November 2026 um 19:11 Uhr erwartet die Gäste erneut eine unterhaltsame vergleichende Weinprobe mit närrischem Rahmenprogramm.\nDas Motto der Veranstaltung bleibt vorerst noch geheim – Vorfreude ist also garantiert.\nJetzt schon vormerken und den Termin im Kalender sichern – weitere Informationen folgen in Kürze! \nTicketanfragen \n\n	Hinweis: Für diesen Inhalt ist JavaScript erforderlich.\n\n\n    \n\n\n        \n        \n        \n🔒 Hinweis zum Datenschutz\nMit dem Absenden der Ticketanfrage übermitteln Sie uns personenbezogene Daten (z. B. Name\, Adresse\, E-Mail). Diese verwenden wir ausschließlich zur Bearbeitung Ihrer Bestellung. Je nach Veranstaltungsart können für die Abwicklung und Übergabe der Karten zusätzlich weitere Angaben (z. B. Adresse) erforderlich sein. Eine Weitergabe an Dritte erfolgt nur\, wenn dies zur Abwicklung notwendig ist (z. B. an Zahlungsdienstleister). Nach Abschluss der Veranstaltung werden Ihre Daten innerhalb von 30 Tagen gelöscht\, soweit keine gesetzlichen Aufbewahrungspflichten bestehen. \nMehr Informationen findet ihr in unserer Datenschutzerklärung.
URL:https://hcv-heidesheim.de/event/46-naerrische-weinprobe-2/
LOCATION:Schönborner Hof\, Mainzer Str. 17\, Heidesheim
ATTACH;FMTTYPE=image/jpeg:https://hcv-heidesheim.de/wp-content/uploads/2025/12/DSC02684-scaled.jpg
ORGANIZER;CN="Heidesheimer Carneval Verein":MAILTO:hcv.heidesheim@web.de
END:VEVENT
END:VCALENDAR